{
 "currentVersion": 10.61,
 "serviceDescription": "",
 "mapName": "Layers",
 "description": "",
 "copyrightText": "",
 "supportsDynamicLayers": true,
 "layers": [
  {
   "id": 0,
   "name": "2019 Aerials - 3\"/6\"",
   "parentLayerId": -1,
   "defaultVisibility": true,
   "subLayerIds": [
    1,
    2,
    3,
    4,
    5,
    6
   ],
   "minScale": 600000,
   "maxScale": 0
  },
  {
   "id": 1,
   "name": "MNMCCC076113.sid",
   "parentLayerId": 0,
   "defaultVisibility": true,
   "subLayerIds": null,
   "minScale": 0,
   "maxScale": 0
  },
  {
   "id": 2,
   "name": "MNMCCC082113.sid",
   "parentLayerId": 0,
   "defaultVisibility": true,
   "subLayerIds": null,
   "minScale": 0,
   "maxScale": 0
  },
  {
   "id": 3,
   "name": "MNMCCC082125.sid",
   "parentLayerId": 0,
   "defaultVisibility": true,
   "subLayerIds": null,
   "minScale": 0,
   "maxScale": 0
  },
  {
   "id": 4,
   "name": "MNMCCC089119.sid",
   "parentLayerId": 0,
   "defaultVisibility": true,
   "subLayerIds": null,
   "minScale": 0,
   "maxScale": 0
  },
  {
   "id": 5,
   "name": "MNMCCC095125.sid",
   "parentLayerId": 0,
   "defaultVisibility": true,
   "subLayerIds": null,
   "minScale": 0,
   "maxScale": 0
  },
  {
   "id": 6,
   "name": "MNMCCC095131.sid",
   "parentLayerId": 0,
   "defaultVisibility": true,
   "subLayerIds": null,
   "minScale": 0,
   "maxScale": 0
  }
 ],
 "tables": [],
 "spatialReference": {
  "wkid": 103721,
  "latestWkid": 103721
 },
 "singleFusedMapCache": true,
 "tileInfo": {
  "rows": 256,
  "cols": 256,
  "dpi": 96,
  "format": "MIXED",
  "compressionQuality": 75,
  "origin": {
   "x": -118952700,
   "y": 1.4022629999999994E8
  },
  "spatialReference": {
   "wkid": 103721,
   "latestWkid": 103721
  },
  "lods": [
   {
    "level": 0,
    "resolution": 520.8333333333333,
    "scale": 600000
   },
   {
    "level": 1,
    "resolution": 347.22222222222223,
    "scale": 400000
   },
   {
    "level": 2,
    "resolution": 95.4861111111111,
    "scale": 110000
   },
   {
    "level": 3,
    "resolution": 55.55555555555555,
    "scale": 64000
   },
   {
    "level": 4,
    "resolution": 27.777777777777775,
    "scale": 32000
   },
   {
    "level": 5,
    "resolution": 13.888888888888888,
    "scale": 16000
   },
   {
    "level": 6,
    "resolution": 6.944444444444444,
    "scale": 8000
   },
   {
    "level": 7,
    "resolution": 4.166666666666666,
    "scale": 4800
   },
   {
    "level": 8,
    "resolution": 1.8229166666666665,
    "scale": 2100
   },
   {
    "level": 9,
    "resolution": 1.3020833333333333,
    "scale": 1500
   },
   {
    "level": 10,
    "resolution": 0.8680555555555555,
    "scale": 1000
   },
   {
    "level": 11,
    "resolution": 0.43402777777777773,
    "scale": 500
   },
   {
    "level": 12,
    "resolution": 0.21701388888888887,
    "scale": 250
   }
  ]
 },
 "initialExtent": {
  "xmin": 270761.02777777787,
  "ymin": 129329.0416666667,
  "xmax": 851663.8055555556,
  "ymax": 335926.26388888893,
  "spatialReference": {
   "wkid": 103721,
   "latestWkid": 103721
  }
 },
 "fullExtent": {
  "xmin": 479957.5,
  "ymin": 97977.75,
  "xmax": 615384,
  "ymax": 261722,
  "spatialReference": {
   "wkid": 103721,
   "latestWkid": 103721
  }
 },
 "minScale": 600000,
 "maxScale": 250,
 "units": "esriFeet",
 "supportedImageFormatTypes": "PNG32,PNG24,PNG,JPG,DIB,TIFF,EMF,PS,PDF,GIF,SVG,SVGZ,BMP",
 "documentInfo": {
  "Title": "",
  "Author": "",
  "Comments": "",
  "Subject": "2019 Pictometry Aerials",
  "Category": "",
  "AntialiasingMode": "Best",
  "TextAntialiasingMode": "Force",
  "Keywords": "Aerial"
 },
 "capabilities": "Map,Query,Data",
 "supportedQueryFormats": "JSON, AMF, geoJSON",
 "exportTilesAllowed": false,
 "supportsDatumTransformation": true,
 "maxRecordCount": 1000,
 "maxImageHeight": 4096,
 "maxImageWidth": 4096,
 "supportedExtensions": ""
}
