{
 "currentVersion": 10.61,
 "serviceDescription": "Pictometry 2\" Res Aerials. These were flown Early May 2022.",
 "mapName": "Layers",
 "description": "",
 "copyrightText": "",
 "supportsDynamicLayers": true,
 "layers": [
  {
   "id": 0,
   "name": "2022 Aerials - 2\"",
   "parentLayerId": -1,
   "defaultVisibility": true,
   "subLayerIds": [
    1,
    2,
    3,
    4,
    5,
    6,
    7,
    8,
    9,
    10
   ],
   "minScale": 0,
   "maxScale": 0
  },
  {
   "id": 1,
   "name": "Fish Lake 1",
   "parentLayerId": 0,
   "defaultVisibility": true,
   "subLayerIds": null,
   "minScale": 0,
   "maxScale": 0
  },
  {
   "id": 2,
   "name": "Nessel 2",
   "parentLayerId": 0,
   "defaultVisibility": true,
   "subLayerIds": null,
   "minScale": 0,
   "maxScale": 0
  },
  {
   "id": 3,
   "name": "North Branch 3",
   "parentLayerId": 0,
   "defaultVisibility": true,
   "subLayerIds": null,
   "minScale": 0,
   "maxScale": 0
  },
  {
   "id": 4,
   "name": "Harris-SunriseN 4",
   "parentLayerId": 0,
   "defaultVisibility": true,
   "subLayerIds": null,
   "minScale": 0,
   "maxScale": 0
  },
  {
   "id": 5,
   "name": "Rushseba 5",
   "parentLayerId": 0,
   "defaultVisibility": true,
   "subLayerIds": null,
   "minScale": 0,
   "maxScale": 0
  },
  {
   "id": 6,
   "name": "Wyoming 6",
   "parentLayerId": 0,
   "defaultVisibility": true,
   "subLayerIds": null,
   "minScale": 0,
   "maxScale": 0
  },
  {
   "id": 7,
   "name": "Lent 7",
   "parentLayerId": 0,
   "defaultVisibility": true,
   "subLayerIds": null,
   "minScale": 0,
   "maxScale": 0
  },
  {
   "id": 8,
   "name": "CLTN-Shafer 8",
   "parentLayerId": 0,
   "defaultVisibility": true,
   "subLayerIds": null,
   "minScale": 0,
   "maxScale": 0
  },
  {
   "id": 9,
   "name": "Amador-SunriseS 9",
   "parentLayerId": 0,
   "defaultVisibility": true,
   "subLayerIds": null,
   "minScale": 0,
   "maxScale": 0
  },
  {
   "id": 10,
   "name": "Franconia-CLTS 10",
   "parentLayerId": 0,
   "defaultVisibility": true,
   "subLayerIds": null,
   "minScale": 0,
   "maxScale": 0
  }
 ],
 "tables": [],
 "spatialReference": {
  "wkid": 103721,
  "latestWkid": 103721
 },
 "singleFusedMapCache": true,
 "tileInfo": {
  "rows": 256,
  "cols": 256,
  "dpi": 96,
  "format": "MIXED",
  "compressionQuality": 75,
  "origin": {
   "x": -118952700,
   "y": 1.4022629999999994E8
  },
  "spatialReference": {
   "wkid": 103721,
   "latestWkid": 103721
  },
  "lods": [
   {
    "level": 0,
    "resolution": 520.8333333333333,
    "scale": 600000
   },
   {
    "level": 1,
    "resolution": 347.22222222222223,
    "scale": 400000
   },
   {
    "level": 2,
    "resolution": 95.4861111111111,
    "scale": 110000
   },
   {
    "level": 3,
    "resolution": 55.55555555555555,
    "scale": 64000
   },
   {
    "level": 4,
    "resolution": 27.777777777777775,
    "scale": 32000
   },
   {
    "level": 5,
    "resolution": 13.888888888888888,
    "scale": 16000
   },
   {
    "level": 6,
    "resolution": 6.944444444444444,
    "scale": 8000
   },
   {
    "level": 7,
    "resolution": 4.166666666666666,
    "scale": 4800
   },
   {
    "level": 8,
    "resolution": 1.8229166666666665,
    "scale": 2100
   },
   {
    "level": 9,
    "resolution": 1.3020833333333333,
    "scale": 1500
   },
   {
    "level": 10,
    "resolution": 0.8680555555555555,
    "scale": 1000
   },
   {
    "level": 11,
    "resolution": 0.43402777777777773,
    "scale": 500
   },
   {
    "level": 12,
    "resolution": 0.21701388888888887,
    "scale": 250
   }
  ]
 },
 "initialExtent": {
  "xmin": 286186.3186254078,
  "ymin": 137173.02889577602,
  "xmax": 827852.9852920745,
  "ymax": 343770.25111799827,
  "spatialReference": {
   "wkid": 103721,
   "latestWkid": 103721
  }
 },
 "fullExtent": {
  "xmin": 484703.999999995,
  "ymin": 99792.16344587503,
  "xmax": 614063.835920525,
  "ymax": 260832.000000005,
  "spatialReference": {
   "wkid": 103721,
   "latestWkid": 103721
  }
 },
 "minScale": 600000,
 "maxScale": 250,
 "units": "esriFeet",
 "supportedImageFormatTypes": "PNG32,PNG24,PNG,JPG,DIB,TIFF,EMF,PS,PDF,GIF,SVG,SVGZ,BMP",
 "documentInfo": {
  "Title": "",
  "Author": "",
  "Comments": "Pictometry 2\" Res Aerials. These were flown Early May 2022.",
  "Subject": "2022 Pictometry 2\" res aerials",
  "Category": "",
  "AntialiasingMode": "Best",
  "TextAntialiasingMode": "Force",
  "Keywords": "Aerials; 2022 Aerials,2\" Res Aerials"
 },
 "capabilities": "Map,Query,Data",
 "supportedQueryFormats": "JSON, AMF, geoJSON",
 "exportTilesAllowed": false,
 "supportsDatumTransformation": true,
 "maxRecordCount": 1000,
 "maxImageHeight": 4096,
 "maxImageWidth": 4096,
 "supportedExtensions": ""
}
