{
 "currentVersion": 10.61,
 "serviceDescription": "",
 "mapName": "LIDAR",
 "description": "",
 "copyrightText": "",
 "supportsDynamicLayers": true,
 "layers": [
  {
   "id": 0,
   "name": "dem01",
   "parentLayerId": -1,
   "defaultVisibility": true,
   "subLayerIds": null,
   "minScale": 0,
   "maxScale": 0
  },
  {
   "id": 1,
   "name": "dem03hs",
   "parentLayerId": -1,
   "defaultVisibility": true,
   "subLayerIds": null,
   "minScale": 0,
   "maxScale": 0
  }
 ],
 "tables": [],
 "spatialReference": {
  "wkid": 103721,
  "latestWkid": 103721
 },
 "singleFusedMapCache": true,
 "tileInfo": {
  "rows": 256,
  "cols": 256,
  "dpi": 96,
  "format": "Mixed",
  "compressionQuality": 75,
  "origin": {
   "x": -118952700,
   "y": 1.4022629999999994E8
  },
  "spatialReference": {
   "wkid": 103721,
   "latestWkid": 103721
  },
  "lods": [
   {
    "level": 0,
    "resolution": 347.22222222222223,
    "scale": 400000
   },
   {
    "level": 1,
    "resolution": 95.4861111111111,
    "scale": 110000
   },
   {
    "level": 2,
    "resolution": 55.55555555555555,
    "scale": 64000
   },
   {
    "level": 3,
    "resolution": 27.777777777777775,
    "scale": 32000
   },
   {
    "level": 4,
    "resolution": 13.888888888888888,
    "scale": 16000
   },
   {
    "level": 5,
    "resolution": 6.944444444444444,
    "scale": 8000
   },
   {
    "level": 6,
    "resolution": 4.166666666666666,
    "scale": 4800
   },
   {
    "level": 7,
    "resolution": 1.8229166666666665,
    "scale": 2100
   },
   {
    "level": 8,
    "resolution": 1.3020833333333333,
    "scale": 1500
   },
   {
    "level": 9,
    "resolution": 0.8680555555555555,
    "scale": 1000
   },
   {
    "level": 10,
    "resolution": 0.43402777777777773,
    "scale": 500
   }
  ]
 },
 "initialExtent": {
  "xmin": 458551.9413793097,
  "ymin": 5031357.2620689655,
  "xmax": 558055.0586206904,
  "ymax": 5066745.400000001,
  "spatialReference": {
   "wkid": 103721,
   "latestWkid": 103721
  }
 },
 "fullExtent": {
  "xmin": 488770,
  "ymin": 5015705,
  "xmax": 527836,
  "ymax": 5064317,
  "spatialReference": {
   "wkid": 103721,
   "latestWkid": 103721
  }
 },
 "minScale": 400000,
 "maxScale": 500,
 "units": "esriFeet",
 "supportedImageFormatTypes": "PNG32,PNG24,PNG,JPG,DIB,TIFF,EMF,PS,PDF,GIF,SVG,SVGZ,BMP",
 "documentInfo": {
  "Title": "",
  "Author": "",
  "Comments": "",
  "Subject": "",
  "Category": "",
  "AntialiasingMode": "Best",
  "TextAntialiasingMode": "Force",
  "Keywords": "Lidar"
 },
 "capabilities": "Map,Query,Data",
 "supportedQueryFormats": "JSON, AMF, geoJSON",
 "exportTilesAllowed": false,
 "supportsDatumTransformation": true,
 "maxRecordCount": 1000,
 "maxImageHeight": 4096,
 "maxImageWidth": 4096,
 "supportedExtensions": ""
}
